BEGIN:VCALENDAR
VERSION:2.0
PRODID:-//Elegí - ECPv6.15.12.2//NONSGML v1.0//EN
CALSCALE:GREGORIAN
METHOD:PUBLISH
X-WR-CALNAME:Elegí
X-ORIGINAL-URL:https://elegi.unnoba.edu.ar
X-WR-CALDESC:Eventos para Elegí
REFRESH-INTERVAL;VALUE=DURATION:PT1H
X-Robots-Tag:noindex
X-PUBLISHED-TTL:PT1H
BEGIN:VTIMEZONE
TZID:America/Argentina/Buenos_Aires
BEGIN:STANDARD
TZOFFSETFROM:-0300
TZOFFSETTO:-0300
TZNAME:-03
DTSTART:20250101T000000
END:STANDARD
END:VTIMEZONE
BEGIN:VEVENT
DTSTART;VALUE=DATE:20260817
DTEND;VALUE=DATE:20260818
DTSTAMP:20260420T101542
CREATED:20251204T132340Z
LAST-MODIFIED:20251204T132340Z
UID:6552-1786924800-1787011199@elegi.unnoba.edu.ar
SUMMARY:FERIADOS\, DÍAS NO LABORABLES Y/O SIN ACTIVIDAD ACADÉMICA
DESCRIPTION:Paso a la Inmortalidad del Gral. José de San Martín.
URL:https://elegi.unnoba.edu.ar/calendarioacademico/feriados-dias-no-laborables-y-o-sin-actividad-academica-9/
END:VEVENT
BEGIN:VEVENT
DTSTART;VALUE=DATE:20260818
DTEND;VALUE=DATE:20261213
DTSTAMP:20260420T101542
CREATED:20251203T144349Z
LAST-MODIFIED:20251203T144349Z
UID:6465-1787011200-1797119999@elegi.unnoba.edu.ar
SUMMARY:Inicio\,  período de dictado y desarrollo de clases en el 2do. Semestre 2026 - MATERIAS CUATRIMESTRALES
DESCRIPTION:De asignaturas Cuatrimestrales\, Bimestrales y/o Mensuales
URL:https://elegi.unnoba.edu.ar/calendarioacademico/inicio-periodo-de-dictado-y-desarrollo-de-clases-en-el-2do-semestre-2026-materias-cuatrimestrales/
END:VEVENT
BEGIN:VEVENT
DTSTART;VALUE=DATE:20260818
DTEND;VALUE=DATE:20261213
DTSTAMP:20260420T101542
CREATED:20251203T144443Z
LAST-MODIFIED:20251203T144443Z
UID:6467-1787011200-1797119999@elegi.unnoba.edu.ar
SUMMARY:Inicio\,  período de dictado y desarrollo de clases en el 2do. Semestre 2026 - MATERIAS ANUALES
DESCRIPTION:De asignaturas Anuales
URL:https://elegi.unnoba.edu.ar/calendarioacademico/inicio-periodo-de-dictado-y-desarrollo-de-clases-en-el-2do-semestre-2026-materias-anuales/
END:VEVENT
BEGIN:VEVENT
DTSTART;VALUE=DATE:20260901
DTEND;VALUE=DATE:20260902
DTSTAMP:20260420T101542
CREATED:20251204T125858Z
LAST-MODIFIED:20251204T125858Z
UID:6505-1788220800-1788307199@elegi.unnoba.edu.ar
SUMMARY:8° Turno - Septiembre INICIO DE INSCRIPCIÓN
DESCRIPTION:-Todas las Inscripciones y/o Anulaciones (Bajas) a exámenes de reválida quedarán habilitadas hasta 2 (dos) DÍAS HÁBILES antes de cada mesa independientemente de la hora del examen (La HORA de finalización para inscripciones y/o anulaciones en cada día y para cada fecha según corresponda será a las 23:59Hs). \n-Los días sábados no se computarán como días hábiles para inscripciones y/o anulaciones y\, los días No hábiles que se extienden más allá del sábado y domingo a causa de la existencia y suma de días feriados\, es decir que\, estos días feriados que se suman\, NO se contabilizarán como días NO hábiles\, sino que seguirán siendo días hábiles y\, únicamente aplica para la realización Inscripción/Anulaciones. \n-Será competencia de secretaría académica de universidad\, en caso de que se requiera\, la adecuación y/o modificación fechas de cierre de inscripciones y/o anulaciones de un determinado turno\, como así también\, la autorización de turnos especiales. \n-La postergación o suspensión de una mesa con período de inscripción cerrado\, no habilita nuevas inscripciones o anulaciones a esta.
URL:https://elegi.unnoba.edu.ar/calendarioacademico/8-turno-septiembre-inicio-de-inscripcion/
END:VEVENT
BEGIN:VEVENT
DTSTART;VALUE=DATE:20260914
DTEND;VALUE=DATE:20260920
DTSTAMP:20260420T101542
CREATED:20251204T131206Z
LAST-MODIFIED:20251204T131206Z
UID:6525-1789344000-1789862399@elegi.unnoba.edu.ar
SUMMARY:8° Turno - Septiembre FECHA DE EXAMEN
DESCRIPTION:
URL:https://elegi.unnoba.edu.ar/calendarioacademico/8-turno-septiembre-fecha-de-examen/
END:VEVENT
BEGIN:VEVENT
DTSTART;VALUE=DATE:20260921
DTEND;VALUE=DATE:20260922
DTSTAMP:20260420T101542
CREATED:20251204T132423Z
LAST-MODIFIED:20251204T132423Z
UID:6554-1789948800-1790035199@elegi.unnoba.edu.ar
SUMMARY:FERIADOS\, DÍAS NO LABORABLES Y/O SIN ACTIVIDAD ACADÉMICA
DESCRIPTION:Día del Estudiante\n(día sin actividad únicamente para estudiantes)
URL:https://elegi.unnoba.edu.ar/calendarioacademico/feriados-dias-no-laborables-y-o-sin-actividad-academica-10/
END:VEVENT
BEGIN:VEVENT
DTSTART;VALUE=DATE:20260924
DTEND;VALUE=DATE:20260925
DTSTAMP:20260420T101542
CREATED:20251204T131517Z
LAST-MODIFIED:20251204T131517Z
UID:6533-1790208000-1790294399@elegi.unnoba.edu.ar
SUMMARY:TRÁMITE DE LIBRETAS UNIVERSITARIAS
DESCRIPTION:De 10 a 13hs y de 17 a 19hs \nJunín: Anexo Rivadavia\nPergamino: Monteagudo y ECANA \nRequisitos:\nEl inicio del trámite es personal y al momento de iniciarlo se debe tener como mínimo un examen final aprobado. También se deberá presentar un foto tipo carnet (Actual) .
URL:https://elegi.unnoba.edu.ar/calendarioacademico/tramite-de-libretas-universitarias-7/
END:VEVENT
BEGIN:VEVENT
DTSTART;VALUE=DATE:20260924
DTEND;VALUE=DATE:20260925
DTSTAMP:20260420T101542
CREATED:20251204T132456Z
LAST-MODIFIED:20251204T132456Z
UID:6556-1790208000-1790294399@elegi.unnoba.edu.ar
SUMMARY:FERIADOS\, DÍAS NO LABORABLES Y/O SIN ACTIVIDAD ACADÉMICA
DESCRIPTION:Día de la Virgen de la Merced – Patrona de Pergamino\n(Rige únicamente para Pergamino)
URL:https://elegi.unnoba.edu.ar/calendarioacademico/feriados-dias-no-laborables-y-o-sin-actividad-academica-11/
END:VEVENT
BEGIN:VEVENT
DTSTART;VALUE=DATE:20261001
DTEND;VALUE=DATE:20261017
DTSTAMP:20260420T101542
CREATED:20251203T133016Z
LAST-MODIFIED:20251203T133016Z
UID:6437-1790812800-1792195199@elegi.unnoba.edu.ar
SUMMARY:Preinscripción a carreras y examen para personas mayores de 25 años sin secundario completo INGRESO 2027
DESCRIPTION:
URL:https://elegi.unnoba.edu.ar/calendarioacademico/preinscripcion-a-carreras-y-examen-para-personas-mayores-de-25-anos-sin-secundario-completo-ingreso-2027/
END:VEVENT
BEGIN:VEVENT
DTSTART;VALUE=DATE:20261012
DTEND;VALUE=DATE:20261013
DTSTAMP:20260420T101542
CREATED:20251204T132548Z
LAST-MODIFIED:20251204T132548Z
UID:6558-1791763200-1791849599@elegi.unnoba.edu.ar
SUMMARY:FERIADOS\, DÍAS NO LABORABLES Y/O SIN ACTIVIDAD ACADÉMICA
DESCRIPTION:Día del Respeto a la Diversidad Cultural
URL:https://elegi.unnoba.edu.ar/calendarioacademico/feriados-dias-no-laborables-y-o-sin-actividad-academica-12/
END:VEVENT
BEGIN:VEVENT
DTSTART;VALUE=DATE:20261020
DTEND;VALUE=DATE:20261021
DTSTAMP:20260420T101542
CREATED:20251204T130125Z
LAST-MODIFIED:20251204T130125Z
UID:6507-1792454400-1792540799@elegi.unnoba.edu.ar
SUMMARY:9° Turno - Noviembre INICIO DE INSCRIPCIÓN
DESCRIPTION:
URL:https://elegi.unnoba.edu.ar/calendarioacademico/9-turno-noviembre-inicio-de-inscripcion/
END:VEVENT
BEGIN:VEVENT
DTSTART;VALUE=DATE:20261102
DTEND;VALUE=DATE:20261108
DTSTAMP:20260420T101542
CREATED:20251204T131244Z
LAST-MODIFIED:20251204T131244Z
UID:6527-1793577600-1794095999@elegi.unnoba.edu.ar
SUMMARY:9° Turno - Noviembre FECHA DE EXAMEN
DESCRIPTION:
URL:https://elegi.unnoba.edu.ar/calendarioacademico/9-turno-noviembre-fecha-de-examen/
END:VEVENT
BEGIN:VEVENT
DTSTART;VALUE=DATE:20261123
DTEND;VALUE=DATE:20261124
DTSTAMP:20260420T101542
CREATED:20251204T132630Z
LAST-MODIFIED:20251204T132630Z
UID:6560-1795392000-1795478399@elegi.unnoba.edu.ar
SUMMARY:FERIADOS\, DÍAS NO LABORABLES Y/O SIN ACTIVIDAD ACADÉMICA
DESCRIPTION:LUNES (Trasladable del 20/11) \nDía de la Soberanía Nacional
URL:https://elegi.unnoba.edu.ar/calendarioacademico/feriados-dias-no-laborables-y-o-sin-actividad-academica-13/
END:VEVENT
BEGIN:VEVENT
DTSTART;VALUE=DATE:20261124
DTEND;VALUE=DATE:20261125
DTSTAMP:20260420T101542
CREATED:20251204T130235Z
LAST-MODIFIED:20251204T130235Z
UID:6509-1795478400-1795564799@elegi.unnoba.edu.ar
SUMMARY:10° Turno - Diciembre INICIO DE INSCRIPCIÓN
DESCRIPTION:-Todas las Inscripciones y/o Anulaciones (Bajas) a exámenes de reválida quedarán habilitadas hasta 2 (dos) DÍAS HÁBILES antes de cada mesa independientemente de la hora del examen (La HORA de finalización para inscripciones y/o anulaciones en cada día y para cada fecha según corresponda será a las 23:59Hs). \n-Los días sábados no se computarán como días hábiles para inscripciones y/o anulaciones y\, los días No hábiles que se extienden más allá del sábado y domingo a causa de la existencia y suma de días feriados\, es decir que\, estos días feriados que se suman\, NO se contabilizarán como días NO hábiles\, sino que seguirán siendo días hábiles y\, únicamente aplica para la realización Inscripción/Anulaciones. \n-Será competencia de secretaría académica de universidad\, en caso de que se requiera\, la adecuación y/o modificación fechas de cierre de inscripciones y/o anulaciones de un determinado turno\, como así también\, la autorización de turnos especiales. \n-La postergación o suspensión de una mesa con período de inscripción cerrado\, no habilita nuevas inscripciones o anulaciones a esta.
URL:https://elegi.unnoba.edu.ar/calendarioacademico/10-turno-diciembre-inicio-de-inscripcion/
END:VEVENT
BEGIN:VEVENT
DTSTART;VALUE=DATE:20261126
DTEND;VALUE=DATE:20261127
DTSTAMP:20260420T101542
CREATED:20251204T132702Z
LAST-MODIFIED:20251204T132702Z
UID:6562-1795651200-1795737599@elegi.unnoba.edu.ar
SUMMARY:FERIADOS\, DÍAS NO LABORABLES Y/O SIN ACTIVIDAD ACADÉMICA
DESCRIPTION:Día del Trabajador Universitario No Docente
URL:https://elegi.unnoba.edu.ar/calendarioacademico/feriados-dias-no-laborables-y-o-sin-actividad-academica-14/
END:VEVENT
BEGIN:VEVENT
DTSTART;VALUE=DATE:20261208
DTEND;VALUE=DATE:20261209
DTSTAMP:20260420T101542
CREATED:20251204T132803Z
LAST-MODIFIED:20251204T132803Z
UID:6564-1796688000-1796774399@elegi.unnoba.edu.ar
SUMMARY:FERIADOS\, DÍAS NO LABORABLES Y/O SIN ACTIVIDAD ACADÉMICA
DESCRIPTION:Día de Inmaculada Concepción de María
URL:https://elegi.unnoba.edu.ar/calendarioacademico/feriados-dias-no-laborables-y-o-sin-actividad-academica-15/
END:VEVENT
BEGIN:VEVENT
DTSTART;VALUE=DATE:20261209
DTEND;VALUE=DATE:20261216
DTSTAMP:20260420T101542
CREATED:20251204T131326Z
LAST-MODIFIED:20251204T131326Z
UID:6529-1796774400-1797379199@elegi.unnoba.edu.ar
SUMMARY:10° Turno - Diciembre FECHA DE EXAMEN
DESCRIPTION:
URL:https://elegi.unnoba.edu.ar/calendarioacademico/10-turno-diciembre-fecha-de-examen/
END:VEVENT
BEGIN:VEVENT
DTSTART;VALUE=DATE:20261225
DTEND;VALUE=DATE:20261226
DTSTAMP:20260420T101542
CREATED:20251204T132839Z
LAST-MODIFIED:20251204T132839Z
UID:6566-1798156800-1798243199@elegi.unnoba.edu.ar
SUMMARY:FERIADOS\, DÍAS NO LABORABLES Y/O SIN ACTIVIDAD ACADÉMICA
DESCRIPTION:Día de Navidad
URL:https://elegi.unnoba.edu.ar/calendarioacademico/feriados-dias-no-laborables-y-o-sin-actividad-academica-16/
END:VEVENT
BEGIN:VEVENT
DTSTART;VALUE=DATE:20261227
DTEND;VALUE=DATE:20261228
DTSTAMP:20260420T101542
CREATED:20251204T132958Z
LAST-MODIFIED:20251204T133323Z
UID:6568-1798329600-1798415999@elegi.unnoba.edu.ar
SUMMARY:FERIADOS\, DÍAS NO LABORABLES Y/O SIN ACTIVIDAD ACADÉMICA
DESCRIPTION:Aniversario fundación de Junín\n(Rige únicamente para Junín)
URL:https://elegi.unnoba.edu.ar/calendarioacademico/feriados-dias-no-laborables-y-o-sin-actividad-academica-17/
END:VEVENT
END:VCALENDAR